BEGIN:VCALENDAR
VERSION:2.0
PRODID:-//Hospice Orillia - ECPv6.15.20//NONSGML v1.0//EN
CALSCALE:GREGORIAN
METHOD:PUBLISH
X-WR-CALNAME:Hospice Orillia
X-ORIGINAL-URL:https://hospiceorillia.ca
X-WR-CALDESC:Events for Hospice Orillia
REFRESH-INTERVAL;VALUE=DURATION:PT1H
X-Robots-Tag:noindex
X-PUBLISHED-TTL:PT1H
BEGIN:VTIMEZONE
TZID:America/Toronto
BEGIN:DAYLIGHT
TZOFFSETFROM:-0500
TZOFFSETTO:-0400
TZNAME:EDT
DTSTART:20250309T070000
END:DAYLIGHT
BEGIN:STANDARD
TZOFFSETFROM:-0400
TZOFFSETTO:-0500
TZNAME:EST
DTSTART:20251102T060000
END:STANDARD
BEGIN:DAYLIGHT
TZOFFSETFROM:-0500
TZOFFSETTO:-0400
TZNAME:EDT
DTSTART:20260308T070000
END:DAYLIGHT
BEGIN:STANDARD
TZOFFSETFROM:-0400
TZOFFSETTO:-0500
TZNAME:EST
DTSTART:20261101T060000
END:STANDARD
BEGIN:DAYLIGHT
TZOFFSETFROM:-0500
TZOFFSETTO:-0400
TZNAME:EDT
DTSTART:20270314T070000
END:DAYLIGHT
BEGIN:STANDARD
TZOFFSETFROM:-0400
TZOFFSETTO:-0500
TZNAME:EST
DTSTART:20271107T060000
END:STANDARD
END:VTIMEZONE
BEGIN:VEVENT
DTSTART;TZID=America/Toronto:20260805T120000
DTEND;TZID=America/Toronto:20260805T120000
DTSTAMP:20260424T044550
CREATED:20260127T212646Z
LAST-MODIFIED:20260127T212646Z
UID:27423-1785931200-1785931200@hospiceorillia.ca
SUMMARY:Grief Support Walking Group
DESCRIPTION:1:00 PM
URL:https://hospiceorillia.ca/support/grief-support-walking-group-27/
LOCATION:On
CATEGORIES:Support Group
END:VEVENT
BEGIN:VEVENT
DTSTART;TZID=America/Toronto:20260812T120000
DTEND;TZID=America/Toronto:20260812T120000
DTSTAMP:20260424T044550
CREATED:20260127T212646Z
LAST-MODIFIED:20260127T212646Z
UID:27424-1786536000-1786536000@hospiceorillia.ca
SUMMARY:Grief Support Walking Group
DESCRIPTION:1:00 PM
URL:https://hospiceorillia.ca/support/grief-support-walking-group-28/
LOCATION:On
CATEGORIES:Support Group
END:VEVENT
BEGIN:VEVENT
DTSTART;TZID=America/Toronto:20260819T120000
DTEND;TZID=America/Toronto:20260819T120000
DTSTAMP:20260424T044550
CREATED:20260127T212646Z
LAST-MODIFIED:20260127T212646Z
UID:27425-1787140800-1787140800@hospiceorillia.ca
SUMMARY:Grief Support Walking Group
DESCRIPTION:1:00 PM
URL:https://hospiceorillia.ca/support/grief-support-walking-group-29/
LOCATION:On
CATEGORIES:Support Group
END:VEVENT
BEGIN:VEVENT
DTSTART;TZID=America/Toronto:20260826T120000
DTEND;TZID=America/Toronto:20260826T120000
DTSTAMP:20260424T044550
CREATED:20260127T212646Z
LAST-MODIFIED:20260127T212646Z
UID:27426-1787745600-1787745600@hospiceorillia.ca
SUMMARY:Grief Support Walking Group
DESCRIPTION:1:00 PM
URL:https://hospiceorillia.ca/support/grief-support-walking-group-30/
LOCATION:On
CATEGORIES:Support Group
END:VEVENT
END:VCALENDAR