BEGIN:VCALENDAR
VERSION:2.0
PRODID:-//Hospice Orillia - ECPv6.15.20//NONSGML v1.0//EN
CALSCALE:GREGORIAN
METHOD:PUBLISH
X-ORIGINAL-URL:https://hospiceorillia.ca
X-WR-CALDESC:Events for Hospice Orillia
REFRESH-INTERVAL;VALUE=DURATION:PT1H
X-Robots-Tag:noindex
X-PUBLISHED-TTL:PT1H
BEGIN:VTIMEZONE
TZID:UTC
BEGIN:STANDARD
TZOFFSETFROM:+0000
TZOFFSETTO:+0000
TZNAME:UTC
DTSTART:20230101T000000
END:STANDARD
END:VTIMEZONE
BEGIN:VEVENT
DTSTART;TZID=UTC:20240702T190000
DTEND;TZID=UTC:20240702T203000
DTSTAMP:20260425T113021
CREATED:20240301T024235Z
LAST-MODIFIED:20240301T024315Z
UID:24724-1719946800-1719952200@hospiceorillia.ca
SUMMARY:Pregnancy and Infant Loss Drop-In Program
DESCRIPTION:
URL:https://hospiceorillia.ca/support/pilo-nsm-drop-in-group-5/
LOCATION:St. Thomas Anglican Church\, 4 Mary Street\, Bracebridge\, ON\, Canada
CATEGORIES:Support Groups
END:VEVENT
END:VCALENDAR