BEGIN:VCALENDAR
VERSION:2.0
PRODID:-//Hospice Orillia - ECPv6.15.20//NONSGML v1.0//EN
CALSCALE:GREGORIAN
METHOD:PUBLISH
X-WR-CALNAME:Hospice Orillia
X-ORIGINAL-URL:https://hospiceorillia.ca
X-WR-CALDESC:Events for Hospice Orillia
REFRESH-INTERVAL;VALUE=DURATION:PT1H
X-Robots-Tag:noindex
X-PUBLISHED-TTL:PT1H
BEGIN:VTIMEZONE
TZID:UTC
BEGIN:STANDARD
TZOFFSETFROM:+0000
TZOFFSETTO:+0000
TZNAME:UTC
DTSTART:20230101T000000
END:STANDARD
END:VTIMEZONE
BEGIN:VEVENT
DTSTART;TZID=UTC:20240205T093000
DTEND;TZID=UTC:20240205T113000
DTSTAMP:20260425T200740
CREATED:20240130T015455Z
LAST-MODIFIED:20240130T015924Z
UID:24552-1707125400-1707132600@hospiceorillia.ca
SUMMARY:Coffee & Care
DESCRIPTION:
URL:https://hospiceorillia.ca/support/coffee-care/
LOCATION:On
CATEGORIES:Support Groups
END:VEVENT
BEGIN:VEVENT
DTSTART;TZID=UTC:20240206T100000
DTEND;TZID=UTC:20240206T120000
DTSTAMP:20260425T200740
CREATED:20240130T023244Z
LAST-MODIFIED:20240130T023318Z
UID:24572-1707213600-1707220800@hospiceorillia.ca
SUMMARY:Navigating the Wilderness of Grief - Session 3 of 8
DESCRIPTION:
URL:https://hospiceorillia.ca/support/navigating-the-wilderness-of-grief-3-of-8/
LOCATION:On
END:VEVENT
BEGIN:VEVENT
DTSTART;TZID=UTC:20240206T190000
DTEND;TZID=UTC:20240206T190000
DTSTAMP:20260425T200740
CREATED:20240130T022810Z
LAST-MODIFIED:20240130T022810Z
UID:24566-1707246000-1707246000@hospiceorillia.ca
SUMMARY:PILO NSM Drop In Group
DESCRIPTION:
URL:https://hospiceorillia.ca/support/pilo-nsm-drop-in-group/
LOCATION:On
CATEGORIES:Support Groups
END:VEVENT
BEGIN:VEVENT
DTSTART;TZID=UTC:20240212T093000
DTEND;TZID=UTC:20240212T233000
DTSTAMP:20260425T200740
CREATED:20240130T020544Z
LAST-MODIFIED:20240130T020544Z
UID:24557-1707730200-1707780600@hospiceorillia.ca
SUMMARY:Coffee & Care
DESCRIPTION:
URL:https://hospiceorillia.ca/support/coffee-care-2/
LOCATION:On
CATEGORIES:Support Groups
END:VEVENT
BEGIN:VEVENT
DTSTART;TZID=UTC:20240213T100000
DTEND;TZID=UTC:20240213T120000
DTSTAMP:20260425T200740
CREATED:20240130T023434Z
LAST-MODIFIED:20240130T023434Z
UID:24577-1707818400-1707825600@hospiceorillia.ca
SUMMARY:Navigating the Wilderness of Grief - Session 4 of 8
DESCRIPTION:
URL:https://hospiceorillia.ca/support/navigating-the-wilderness-of-grief-session-4-of-8/
LOCATION:On
CATEGORIES:Support Groups
END:VEVENT
BEGIN:VEVENT
DTSTART;TZID=UTC:20240220T100000
DTEND;TZID=UTC:20240220T120000
DTSTAMP:20260425T200740
CREATED:20240130T023613Z
LAST-MODIFIED:20240130T023613Z
UID:24579-1708423200-1708430400@hospiceorillia.ca
SUMMARY:Navigating the Wilderness of Grief - Session 5 of 8
DESCRIPTION:
URL:https://hospiceorillia.ca/support/navigating-the-wilderness-of-grief-session-5-of-8/
LOCATION:On
CATEGORIES:Support Groups
END:VEVENT
BEGIN:VEVENT
DTSTART;TZID=UTC:20240226T093000
DTEND;TZID=UTC:20240226T113000
DTSTAMP:20260425T200740
CREATED:20240130T020754Z
LAST-MODIFIED:20240130T020754Z
UID:24559-1708939800-1708947000@hospiceorillia.ca
SUMMARY:Coffee & Care
DESCRIPTION:  \n 
URL:https://hospiceorillia.ca/support/coffee-care-3/
LOCATION:On
CATEGORIES:Bereavement Support,Support Groups
END:VEVENT
BEGIN:VEVENT
DTSTART;TZID=UTC:20240227T100000
DTEND;TZID=UTC:20240227T120000
DTSTAMP:20260425T200740
CREATED:20240130T202323Z
LAST-MODIFIED:20240130T202323Z
UID:24582-1709028000-1709035200@hospiceorillia.ca
SUMMARY:Navigating the Wilderness of Grief – Session 6 of 8
DESCRIPTION:
URL:https://hospiceorillia.ca/support/navigating-the-wilderness-of-grief-session-6-of-8/
LOCATION:On
CATEGORIES:Support Groups
END:VEVENT
END:VCALENDAR