BEGIN:VCALENDAR
VERSION:2.0
PRODID:-//Hospice Orillia - ECPv6.15.20//NONSGML v1.0//EN
CALSCALE:GREGORIAN
METHOD:PUBLISH
X-WR-CALNAME:Hospice Orillia
X-ORIGINAL-URL:https://hospiceorillia.ca
X-WR-CALDESC:Events for Hospice Orillia
REFRESH-INTERVAL;VALUE=DURATION:PT1H
X-Robots-Tag:noindex
X-PUBLISHED-TTL:PT1H
BEGIN:VTIMEZONE
TZID:UTC
BEGIN:STANDARD
TZOFFSETFROM:+0000
TZOFFSETTO:+0000
TZNAME:UTC
DTSTART:20230101T000000
END:STANDARD
END:VTIMEZONE
BEGIN:VEVENT
DTSTART;TZID=UTC:20240130T100000
DTEND;TZID=UTC:20240130T120000
DTSTAMP:20260425T215009
CREATED:20240130T021648Z
LAST-MODIFIED:20240130T023308Z
UID:24564-1706608800-1706616000@hospiceorillia.ca
SUMMARY:Navigating the Wilderness of Grief - Session 2 of 8
DESCRIPTION:
URL:https://hospiceorillia.ca/support/navigating-the-wilderness-of-grief/
LOCATION:On
CATEGORIES:Bereavement Support,Support Groups
END:VEVENT
END:VCALENDAR