BEGIN:VCALENDAR
VERSION:2.0
PRODID:-//Hospice Orillia - ECPv6.15.20//NONSGML v1.0//EN
CALSCALE:GREGORIAN
METHOD:PUBLISH
X-WR-CALNAME:Hospice Orillia
X-ORIGINAL-URL:https://hospiceorillia.ca
X-WR-CALDESC:Events for Hospice Orillia
REFRESH-INTERVAL;VALUE=DURATION:PT1H
X-Robots-Tag:noindex
X-PUBLISHED-TTL:PT1H
BEGIN:VTIMEZONE
TZID:America/Toronto
BEGIN:DAYLIGHT
TZOFFSETFROM:-0500
TZOFFSETTO:-0400
TZNAME:EDT
DTSTART:20240310T070000
END:DAYLIGHT
BEGIN:STANDARD
TZOFFSETFROM:-0400
TZOFFSETTO:-0500
TZNAME:EST
DTSTART:20241103T060000
END:STANDARD
BEGIN:DAYLIGHT
TZOFFSETFROM:-0500
TZOFFSETTO:-0400
TZNAME:EDT
DTSTART:20250309T070000
END:DAYLIGHT
BEGIN:STANDARD
TZOFFSETFROM:-0400
TZOFFSETTO:-0500
TZNAME:EST
DTSTART:20251102T060000
END:STANDARD
BEGIN:DAYLIGHT
TZOFFSETFROM:-0500
TZOFFSETTO:-0400
TZNAME:EDT
DTSTART:20260308T070000
END:DAYLIGHT
BEGIN:STANDARD
TZOFFSETFROM:-0400
TZOFFSETTO:-0500
TZNAME:EST
DTSTART:20261101T060000
END:STANDARD
BEGIN:DAYLIGHT
TZOFFSETFROM:-0500
TZOFFSETTO:-0400
TZNAME:EDT
DTSTART:20270314T070000
END:DAYLIGHT
BEGIN:STANDARD
TZOFFSETFROM:-0400
TZOFFSETTO:-0500
TZNAME:EST
DTSTART:20271107T060000
END:STANDARD
END:VTIMEZONE
BEGIN:VEVENT
DTSTART;TZID=America/Toronto:20251218T113000
DTEND;TZID=America/Toronto:20251218T133000
DTSTAMP:20260425T093219
CREATED:20251110T202327Z
LAST-MODIFIED:20251118T143818Z
UID:27073-1766057400-1766064600@hospiceorillia.ca
SUMMARY:Adult Child Loss Support Group
DESCRIPTION:
URL:https://hospiceorillia.ca/support/adult-child-loss-support-group-51/
CATEGORIES:Support Groups
END:VEVENT
BEGIN:VEVENT
DTSTART;TZID=America/Toronto:20260101T000000
DTEND;TZID=America/Toronto:20260101T000000
DTSTAMP:20260425T093219
CREATED:20250910T133021Z
LAST-MODIFIED:20250910T134550Z
UID:26836-1767225600-1767225600@hospiceorillia.ca
SUMMARY:Beyond the Stethoscope: Leadership in Palliative Care
DESCRIPTION:
URL:https://hospiceorillia.ca/support/beyond-the-stethoscope-leadership-in-palliative-care/
CATEGORIES:Podcast
END:VEVENT
BEGIN:VEVENT
DTSTART;TZID=America/Toronto:20260105T093000
DTEND;TZID=America/Toronto:20260105T233000
DTSTAMP:20260425T093219
CREATED:20251112T210302Z
LAST-MODIFIED:20251112T210302Z
UID:27134-1767605400-1767655800@hospiceorillia.ca
SUMMARY:Coffee and Care
DESCRIPTION:Please note: Registration Required. Please contact Louise Brazier at louise@hospiceorillia.ca (705) 325-0505 ext. 209 to register. The Coffee & Care Group will run December 1st\, 8th and 15th\, and will pick back up on January 5th. Thank you for your understanding!
URL:https://hospiceorillia.ca/support/coffee-and-care-59/
LOCATION:Hospice Orillia\, 169 Front St. S.\, Orillia\, ON\, Ontario\, L3V4S8\, Canada
CATEGORIES:Bereavement Support,Support Group,Support Groups
END:VEVENT
BEGIN:VEVENT
DTSTART;TZID=America/Toronto:20260106T190000
DTEND;TZID=America/Toronto:20260106T203000
DTSTAMP:20260425T093219
CREATED:20250819T191857Z
LAST-MODIFIED:20250819T191857Z
UID:26731-1767726000-1767731400@hospiceorillia.ca
SUMMARY:PILO NSM Monthly Drop-In Group
DESCRIPTION:
URL:https://hospiceorillia.ca/support/pilo-nsm-monthly-drop-in-group-13/
LOCATION:St. Thomas Anglican Church\, 4 Mary Street\, Bracebridge\, ON\, Canada
CATEGORIES:Support Groups
END:VEVENT
BEGIN:VEVENT
DTSTART;TZID=America/Toronto:20260115T113000
DTEND;TZID=America/Toronto:20260115T133000
DTSTAMP:20260425T093219
CREATED:20251110T202327Z
LAST-MODIFIED:20251118T143723Z
UID:27075-1768476600-1768483800@hospiceorillia.ca
SUMMARY:Adult Child Loss Support Group
DESCRIPTION:
URL:https://hospiceorillia.ca/support/adult-child-loss-support-group-53/
CATEGORIES:Support Groups
END:VEVENT
BEGIN:VEVENT
DTSTART;TZID=America/Toronto:20260128T120000
DTEND;TZID=America/Toronto:20260128T130000
DTSTAMP:20260425T093219
CREATED:20260127T211855Z
LAST-MODIFIED:20260127T211855Z
UID:27387-1769601600-1769605200@hospiceorillia.ca
SUMMARY:Walking Group
DESCRIPTION:  \nRegistration Required! Please contact Madison Lahay at (705) 325-0505 extension. 208.
URL:https://hospiceorillia.ca/support/walking-group/
CATEGORIES:Support Group
END:VEVENT
BEGIN:VEVENT
DTSTART;TZID=America/Toronto:20260129T113000
DTEND;TZID=America/Toronto:20260129T133000
DTSTAMP:20260425T093219
CREATED:20251110T202330Z
LAST-MODIFIED:20251118T142722Z
UID:27076-1769686200-1769693400@hospiceorillia.ca
SUMMARY:Adult Child Loss Support Group
DESCRIPTION:
URL:https://hospiceorillia.ca/support/adult-child-loss-support-group-54/
CATEGORIES:Support Groups
END:VEVENT
BEGIN:VEVENT
DTSTART;TZID=America/Toronto:20260201T000000
DTEND;TZID=America/Toronto:20260201T000000
DTSTAMP:20260425T093219
CREATED:20250910T133021Z
LAST-MODIFIED:20250910T134550Z
UID:26835-1769904000-1769904000@hospiceorillia.ca
SUMMARY:Beyond the Stethoscope: Palliative care in a Diverse World
DESCRIPTION:
URL:https://hospiceorillia.ca/support/beyond-the-stethoscope-palliative-care-in-a-diverse-world/
CATEGORIES:Podcast
END:VEVENT
BEGIN:VEVENT
DTSTART;TZID=America/Toronto:20260204T120000
DTEND;TZID=America/Toronto:20260204T120000
DTSTAMP:20260425T093219
CREATED:20260127T212544Z
LAST-MODIFIED:20260127T212544Z
UID:27392-1770206400-1770206400@hospiceorillia.ca
SUMMARY:Grief Support Walking Group
DESCRIPTION:1:00 PM
URL:https://hospiceorillia.ca/support/grief-support-walking-group/
CATEGORIES:Support Group
END:VEVENT
BEGIN:VEVENT
DTSTART;TZID=America/Toronto:20260211T120000
DTEND;TZID=America/Toronto:20260211T120000
DTSTAMP:20260425T093219
CREATED:20260127T212544Z
LAST-MODIFIED:20260127T212544Z
UID:27393-1770811200-1770811200@hospiceorillia.ca
SUMMARY:Grief Support Walking Group
DESCRIPTION:1:00 PM
URL:https://hospiceorillia.ca/support/grief-support-walking-group-2/
CATEGORIES:Support Group
END:VEVENT
BEGIN:VEVENT
DTSTART;TZID=America/Toronto:20260212T113000
DTEND;TZID=America/Toronto:20260212T133000
DTSTAMP:20260425T093219
CREATED:20251110T202330Z
LAST-MODIFIED:20251118T142446Z
UID:27077-1770895800-1770903000@hospiceorillia.ca
SUMMARY:Adult Child Loss Support Group
DESCRIPTION:
URL:https://hospiceorillia.ca/support/adult-child-loss-support-group-55/
CATEGORIES:Support Groups
END:VEVENT
BEGIN:VEVENT
DTSTART;TZID=America/Toronto:20260218T120000
DTEND;TZID=America/Toronto:20260218T120000
DTSTAMP:20260425T093219
CREATED:20260127T212544Z
LAST-MODIFIED:20260127T212544Z
UID:27394-1771416000-1771416000@hospiceorillia.ca
SUMMARY:Grief Support Walking Group
DESCRIPTION:1:00 PM
URL:https://hospiceorillia.ca/support/grief-support-walking-group-3/
CATEGORIES:Support Group
END:VEVENT
BEGIN:VEVENT
DTSTART;TZID=America/Toronto:20260225T120000
DTEND;TZID=America/Toronto:20260225T120000
DTSTAMP:20260425T093219
CREATED:20260127T212544Z
LAST-MODIFIED:20260127T212544Z
UID:27395-1772020800-1772020800@hospiceorillia.ca
SUMMARY:Grief Support Walking Group
DESCRIPTION:1:00 PM
URL:https://hospiceorillia.ca/support/grief-support-walking-group-4/
CATEGORIES:Support Group
END:VEVENT
BEGIN:VEVENT
DTSTART;TZID=America/Toronto:20260226T113000
DTEND;TZID=America/Toronto:20260226T133000
DTSTAMP:20260425T093219
CREATED:20251110T202330Z
LAST-MODIFIED:20251118T142354Z
UID:27078-1772105400-1772112600@hospiceorillia.ca
SUMMARY:Adult Child Loss Support Group
DESCRIPTION:
URL:https://hospiceorillia.ca/support/adult-child-loss-support-group-56/
CATEGORIES:Support Groups
END:VEVENT
BEGIN:VEVENT
DTSTART;TZID=America/Toronto:20260301T000000
DTEND;TZID=America/Toronto:20260301T000000
DTSTAMP:20260425T093219
CREATED:20250910T132915Z
LAST-MODIFIED:20250910T134535Z
UID:26834-1772323200-1772323200@hospiceorillia.ca
SUMMARY:Beyond the Stethoscope: Palliative Care Conversations
DESCRIPTION:
URL:https://hospiceorillia.ca/support/beyond-the-stethoscope-palliative-care-conversations/
CATEGORIES:Podcast
END:VEVENT
BEGIN:VEVENT
DTSTART;TZID=America/Toronto:20260304T120000
DTEND;TZID=America/Toronto:20260304T120000
DTSTAMP:20260425T093219
CREATED:20260127T212544Z
LAST-MODIFIED:20260127T212544Z
UID:27396-1772625600-1772625600@hospiceorillia.ca
SUMMARY:Grief Support Walking Group
DESCRIPTION:1:00 PM
URL:https://hospiceorillia.ca/support/grief-support-walking-group-5/
CATEGORIES:Support Group
END:VEVENT
BEGIN:VEVENT
DTSTART;TZID=America/Toronto:20260311T120000
DTEND;TZID=America/Toronto:20260311T120000
DTSTAMP:20260425T093219
CREATED:20260127T212547Z
LAST-MODIFIED:20260127T212548Z
UID:27397-1773230400-1773230400@hospiceorillia.ca
SUMMARY:Grief Support Walking Group
DESCRIPTION:1:00 PM
URL:https://hospiceorillia.ca/support/grief-support-walking-group-6/
CATEGORIES:Support Group
END:VEVENT
BEGIN:VEVENT
DTSTART;TZID=America/Toronto:20260312T113000
DTEND;TZID=America/Toronto:20260312T133000
DTSTAMP:20260425T093219
CREATED:20251110T202330Z
LAST-MODIFIED:20251118T142334Z
UID:27079-1773315000-1773322200@hospiceorillia.ca
SUMMARY:Adult Child Loss Support Group
DESCRIPTION:
URL:https://hospiceorillia.ca/support/adult-child-loss-support-group-57/
CATEGORIES:Support Groups
END:VEVENT
BEGIN:VEVENT
DTSTART;TZID=America/Toronto:20260318T120000
DTEND;TZID=America/Toronto:20260318T120000
DTSTAMP:20260425T093219
CREATED:20260127T212547Z
LAST-MODIFIED:20260127T212548Z
UID:27398-1773835200-1773835200@hospiceorillia.ca
SUMMARY:Grief Support Walking Group
DESCRIPTION:1:00 PM
URL:https://hospiceorillia.ca/support/grief-support-walking-group-7/
CATEGORIES:Support Group
END:VEVENT
BEGIN:VEVENT
DTSTART;TZID=America/Toronto:20260325T120000
DTEND;TZID=America/Toronto:20260325T120000
DTSTAMP:20260425T093219
CREATED:20260127T212547Z
LAST-MODIFIED:20260127T212548Z
UID:27399-1774440000-1774440000@hospiceorillia.ca
SUMMARY:Grief Support Walking Group
DESCRIPTION:1:00 PM
URL:https://hospiceorillia.ca/support/grief-support-walking-group-8/
CATEGORIES:Support Group
END:VEVENT
BEGIN:VEVENT
DTSTART;TZID=America/Toronto:20260401T120000
DTEND;TZID=America/Toronto:20260401T120000
DTSTAMP:20260425T093219
CREATED:20260127T212547Z
LAST-MODIFIED:20260127T212548Z
UID:27400-1775044800-1775044800@hospiceorillia.ca
SUMMARY:Grief Support Walking Group
DESCRIPTION:1:00 PM
URL:https://hospiceorillia.ca/support/grief-support-walking-group-9/
CATEGORIES:Support Group
END:VEVENT
BEGIN:VEVENT
DTSTART;TZID=America/Toronto:20260408T120000
DTEND;TZID=America/Toronto:20260408T120000
DTSTAMP:20260425T093219
CREATED:20260127T212547Z
LAST-MODIFIED:20260127T212548Z
UID:27401-1775649600-1775649600@hospiceorillia.ca
SUMMARY:Grief Support Walking Group
DESCRIPTION:1:00 PM
URL:https://hospiceorillia.ca/support/grief-support-walking-group-10/
CATEGORIES:Support Group
END:VEVENT
BEGIN:VEVENT
DTSTART;TZID=America/Toronto:20260409T113000
DTEND;TZID=America/Toronto:20260409T133000
DTSTAMP:20260425T093219
CREATED:20251110T202330Z
LAST-MODIFIED:20260331T193322Z
UID:27080-1775734200-1775741400@hospiceorillia.ca
SUMMARY:Adult Child Loss Support Group
DESCRIPTION:
URL:https://hospiceorillia.ca/support/adult-child-loss-support-group-58/
CATEGORIES:Support Group,Support Groups
END:VEVENT
BEGIN:VEVENT
DTSTART;TZID=America/Toronto:20260413T093000
DTEND;TZID=America/Toronto:20260413T113000
DTSTAMP:20260425T093219
CREATED:20260331T193645Z
LAST-MODIFIED:20260331T193645Z
UID:27912-1776072600-1776079800@hospiceorillia.ca
SUMMARY:Coffee and Care Grief Support Group
DESCRIPTION:Are you adjusting to life without your loved one? Grief can be a winding journey\, but sharing that journey with others who understand can bring connection and comfort. Our Coffee & Care Support Group offers a welcoming space to meet new people\, share experiences\, and support one another through conversation and companionship. \nThis weekly group provides an opportunity for those who have lost a loved one to gather in a safe and understanding setting. Everyone is welcome—whatever your experience\, background\, or identity. \n\nDate: Mondays\nLocation: Orillia Common Roof\nCost: Free\nRegistration: Registration is required.\n\nFor more information & to register\, please contact: \nLouise Brazier\, Bereavement Services Coordinator louise@hospiceorillia.ca | 705-325-0505 x 209
URL:https://hospiceorillia.ca/support/coffee-and-care-grief-support-group/
CATEGORIES:Bereavement Support,Support Group,Support Groups
END:VEVENT
BEGIN:VEVENT
DTSTART;TZID=America/Toronto:20260415T120000
DTEND;TZID=America/Toronto:20260415T120000
DTSTAMP:20260425T093219
CREATED:20260127T212601Z
LAST-MODIFIED:20260127T212601Z
UID:27407-1776254400-1776254400@hospiceorillia.ca
SUMMARY:Grief Support Walking Group
DESCRIPTION:1:00 PM
URL:https://hospiceorillia.ca/support/grief-support-walking-group-11/
CATEGORIES:Support Group
END:VEVENT
BEGIN:VEVENT
DTSTART;TZID=America/Toronto:20260420T093000
DTEND;TZID=America/Toronto:20260420T113000
DTSTAMP:20260425T093219
CREATED:20260331T193730Z
LAST-MODIFIED:20260331T193730Z
UID:27914-1776677400-1776684600@hospiceorillia.ca
SUMMARY:Coffee and Care Grief Support Group
DESCRIPTION:Are you adjusting to life without your loved one? Grief can be a winding journey\, but sharing that journey with others who understand can bring connection and comfort. Our Coffee & Care Support Group offers a welcoming space to meet new people\, share experiences\, and support one another through conversation and companionship. \nThis weekly group provides an opportunity for those who have lost a loved one to gather in a safe and understanding setting. Everyone is welcome—whatever your experience\, background\, or identity. \n\nDate: Mondays\nLocation: Orillia Common Roof\nCost: Free\nRegistration: Registration is required.\n\nFor more information & to register\, please contact: \nLouise Brazier\, Bereavement Services Coordinator louise@hospiceorillia.ca | 705-325-0505 x 209
URL:https://hospiceorillia.ca/support/coffee-and-care-grief-support-group-2/
CATEGORIES:Bereavement Support,Support Group,Support Groups
END:VEVENT
BEGIN:VEVENT
DTSTART;TZID=America/Toronto:20260422T120000
DTEND;TZID=America/Toronto:20260422T120000
DTSTAMP:20260425T093219
CREATED:20260127T212601Z
LAST-MODIFIED:20260127T212601Z
UID:27408-1776859200-1776859200@hospiceorillia.ca
SUMMARY:Grief Support Walking Group
DESCRIPTION:1:00 PM
URL:https://hospiceorillia.ca/support/grief-support-walking-group-12/
CATEGORIES:Support Group
END:VEVENT
BEGIN:VEVENT
DTSTART;TZID=America/Toronto:20260423T113000
DTEND;TZID=America/Toronto:20260423T133000
DTSTAMP:20260425T093219
CREATED:20260331T193402Z
LAST-MODIFIED:20260331T193402Z
UID:27910-1776943800-1776951000@hospiceorillia.ca
SUMMARY:Adult Child Loss Support Group
DESCRIPTION:
URL:https://hospiceorillia.ca/support/adult-child-loss-support-group-59/
CATEGORIES:Support Group,Support Groups
END:VEVENT
BEGIN:VEVENT
DTSTART;TZID=America/Toronto:20260427T093000
DTEND;TZID=America/Toronto:20260427T113000
DTSTAMP:20260425T093219
CREATED:20260331T193813Z
LAST-MODIFIED:20260331T193813Z
UID:27916-1777282200-1777289400@hospiceorillia.ca
SUMMARY:Coffee and Care Grief Support Group
DESCRIPTION:Are you adjusting to life without your loved one? Grief can be a winding journey\, but sharing that journey with others who understand can bring connection and comfort. Our Coffee & Care Support Group offers a welcoming space to meet new people\, share experiences\, and support one another through conversation and companionship. \nThis weekly group provides an opportunity for those who have lost a loved one to gather in a safe and understanding setting. Everyone is welcome—whatever your experience\, background\, or identity. \n\nDate: Mondays\nLocation: Orillia Common Roof\nCost: Free\nRegistration: Registration is required.\n\nFor more information & to register\, please contact: \nLouise Brazier\, Bereavement Services Coordinator louise@hospiceorillia.ca | 705-325-0505 x 209
URL:https://hospiceorillia.ca/support/coffee-and-care-grief-support-group-3/
CATEGORIES:Bereavement Support,Support Group,Support Groups
END:VEVENT
BEGIN:VEVENT
DTSTART;TZID=America/Toronto:20260429T120000
DTEND;TZID=America/Toronto:20260429T120000
DTSTAMP:20260425T093219
CREATED:20260127T212601Z
LAST-MODIFIED:20260127T212601Z
UID:27409-1777464000-1777464000@hospiceorillia.ca
SUMMARY:Grief Support Walking Group
DESCRIPTION:1:00 PM
URL:https://hospiceorillia.ca/support/grief-support-walking-group-13/
CATEGORIES:Support Group
END:VEVENT
END:VCALENDAR