BEGIN:VCALENDAR
VERSION:2.0
PRODID:-//Hospice Orillia - ECPv6.15.20//NONSGML v1.0//EN
CALSCALE:GREGORIAN
METHOD:PUBLISH
X-WR-CALNAME:Hospice Orillia
X-ORIGINAL-URL:https://hospiceorillia.ca
X-WR-CALDESC:Events for Hospice Orillia
REFRESH-INTERVAL;VALUE=DURATION:PT1H
X-Robots-Tag:noindex
X-PUBLISHED-TTL:PT1H
BEGIN:VTIMEZONE
TZID:America/Toronto
BEGIN:DAYLIGHT
TZOFFSETFROM:-0500
TZOFFSETTO:-0400
TZNAME:EDT
DTSTART:20250309T070000
END:DAYLIGHT
BEGIN:STANDARD
TZOFFSETFROM:-0400
TZOFFSETTO:-0500
TZNAME:EST
DTSTART:20251102T060000
END:STANDARD
BEGIN:DAYLIGHT
TZOFFSETFROM:-0500
TZOFFSETTO:-0400
TZNAME:EDT
DTSTART:20260308T070000
END:DAYLIGHT
BEGIN:STANDARD
TZOFFSETFROM:-0400
TZOFFSETTO:-0500
TZNAME:EST
DTSTART:20261101T060000
END:STANDARD
BEGIN:DAYLIGHT
TZOFFSETFROM:-0500
TZOFFSETTO:-0400
TZNAME:EDT
DTSTART:20270314T070000
END:DAYLIGHT
BEGIN:STANDARD
TZOFFSETFROM:-0400
TZOFFSETTO:-0500
TZNAME:EST
DTSTART:20271107T060000
END:STANDARD
END:VTIMEZONE
BEGIN:VEVENT
DTSTART;TZID=America/Toronto:20261111T120000
DTEND;TZID=America/Toronto:20261111T120000
DTSTAMP:20260424T123645
CREATED:20260127T212731Z
LAST-MODIFIED:20260127T212731Z
UID:27437-1794398400-1794398400@hospiceorillia.ca
SUMMARY:Grief Support Walking Group
DESCRIPTION:1:00 PM
URL:https://hospiceorillia.ca/support/grief-support-walking-group-41/
CATEGORIES:Support Group
END:VEVENT
BEGIN:VEVENT
DTSTART;TZID=America/Toronto:20261118T120000
DTEND;TZID=America/Toronto:20261118T120000
DTSTAMP:20260424T123645
CREATED:20260127T212731Z
LAST-MODIFIED:20260127T212731Z
UID:27438-1795003200-1795003200@hospiceorillia.ca
SUMMARY:Grief Support Walking Group
DESCRIPTION:1:00 PM
URL:https://hospiceorillia.ca/support/grief-support-walking-group-42/
CATEGORIES:Support Group
END:VEVENT
BEGIN:VEVENT
DTSTART;TZID=America/Toronto:20261125T120000
DTEND;TZID=America/Toronto:20261125T120000
DTSTAMP:20260424T123645
CREATED:20260127T212731Z
LAST-MODIFIED:20260127T212731Z
UID:27439-1795608000-1795608000@hospiceorillia.ca
SUMMARY:Grief Support Walking Group
DESCRIPTION:1:00 PM
URL:https://hospiceorillia.ca/support/grief-support-walking-group-43/
CATEGORIES:Support Group
END:VEVENT
BEGIN:VEVENT
DTSTART;TZID=America/Toronto:20261202T120000
DTEND;TZID=America/Toronto:20261202T120000
DTSTAMP:20260424T123645
CREATED:20260127T212731Z
LAST-MODIFIED:20260127T212731Z
UID:27440-1796212800-1796212800@hospiceorillia.ca
SUMMARY:Grief Support Walking Group
DESCRIPTION:1:00 PM
URL:https://hospiceorillia.ca/support/grief-support-walking-group-44/
CATEGORIES:Support Group
END:VEVENT
BEGIN:VEVENT
DTSTART;TZID=America/Toronto:20261209T120000
DTEND;TZID=America/Toronto:20261209T120000
DTSTAMP:20260424T123645
CREATED:20260127T212731Z
LAST-MODIFIED:20260127T212731Z
UID:27441-1796817600-1796817600@hospiceorillia.ca
SUMMARY:Grief Support Walking Group
DESCRIPTION:1:00 PM
URL:https://hospiceorillia.ca/support/grief-support-walking-group-45/
CATEGORIES:Support Group
END:VEVENT
END:VCALENDAR