BEGIN:VCALENDAR
VERSION:2.0
PRODID:-//Hospice Orillia - ECPv6.15.20//NONSGML v1.0//EN
CALSCALE:GREGORIAN
METHOD:PUBLISH
X-WR-CALNAME:Hospice Orillia
X-ORIGINAL-URL:https://hospiceorillia.ca
X-WR-CALDESC:Events for Hospice Orillia
REFRESH-INTERVAL;VALUE=DURATION:PT1H
X-Robots-Tag:noindex
X-PUBLISHED-TTL:PT1H
BEGIN:VTIMEZONE
TZID:America/Toronto
BEGIN:DAYLIGHT
TZOFFSETFROM:-0500
TZOFFSETTO:-0400
TZNAME:EDT
DTSTART:20240310T070000
END:DAYLIGHT
BEGIN:STANDARD
TZOFFSETFROM:-0400
TZOFFSETTO:-0500
TZNAME:EST
DTSTART:20241103T060000
END:STANDARD
BEGIN:DAYLIGHT
TZOFFSETFROM:-0500
TZOFFSETTO:-0400
TZNAME:EDT
DTSTART:20250309T070000
END:DAYLIGHT
BEGIN:STANDARD
TZOFFSETFROM:-0400
TZOFFSETTO:-0500
TZNAME:EST
DTSTART:20251102T060000
END:STANDARD
BEGIN:DAYLIGHT
TZOFFSETFROM:-0500
TZOFFSETTO:-0400
TZNAME:EDT
DTSTART:20260308T070000
END:DAYLIGHT
BEGIN:STANDARD
TZOFFSETFROM:-0400
TZOFFSETTO:-0500
TZNAME:EST
DTSTART:20261101T060000
END:STANDARD
END:VTIMEZONE
BEGIN:VTIMEZONE
TZID:UTC
BEGIN:STANDARD
TZOFFSETFROM:+0000
TZOFFSETTO:+0000
TZNAME:UTC
DTSTART:20240101T000000
END:STANDARD
END:VTIMEZONE
BEGIN:VEVENT
DTSTART;TZID=America/Toronto:20251001T000000
DTEND;TZID=America/Toronto:20251001T000000
DTSTAMP:20260424T032905
CREATED:20250910T133021Z
LAST-MODIFIED:20250910T134550Z
UID:26839-1759276800-1759276800@hospiceorillia.ca
SUMMARY:Beyond the Stethoscope: Special Episode to Celebrate 50 Episodes
DESCRIPTION:
URL:https://hospiceorillia.ca/support/beyond-the-stethoscope-special-episode-to-celebrate-50-episodes/
CATEGORIES:Podcast
END:VEVENT
BEGIN:VEVENT
DTSTART;TZID=America/Toronto:20250908T093000
DTEND;TZID=America/Toronto:20250908T110000
DTSTAMP:20260424T032905
CREATED:20250819T195141Z
LAST-MODIFIED:20250819T200901Z
UID:26739-1757323800-1757329200@hospiceorillia.ca
SUMMARY:Coffee & Care Support Group
DESCRIPTION:Registration Required. Please contact Louise Brazier at louise@hospiceorillia.ca (705) 325-0505 ext. 209 to register.
URL:https://hospiceorillia.ca/support/coffee-care-support-group/
LOCATION:Hospice Orillia\, 169 Front St. S.\, Orillia\, ON\, Ontario\, L3V4S8\, Canada
CATEGORIES:Support Groups
END:VEVENT
BEGIN:VEVENT
DTSTART;TZID=America/Toronto:20250902T190000
DTEND;TZID=America/Toronto:20250902T190000
DTSTAMP:20260424T032905
CREATED:20241206T022642Z
LAST-MODIFIED:20250819T192009Z
UID:25720-1756839600-1756839600@hospiceorillia.ca
SUMMARY:PILO NSM Monthly Drop-In Group
DESCRIPTION:
URL:https://hospiceorillia.ca/support/pilo-nsm-monthly-drop-in-group-9/
LOCATION:St. Thomas Anglican Church\, 4 Mary Street\, Bracebridge\, ON\, Canada
CATEGORIES:Support Groups
END:VEVENT
BEGIN:VEVENT
DTSTART;TZID=America/Toronto:20250901T000000
DTEND;TZID=America/Toronto:20250901T000000
DTSTAMP:20260424T032905
CREATED:20250910T133031Z
LAST-MODIFIED:20250910T134753Z
UID:26840-1756684800-1756684800@hospiceorillia.ca
SUMMARY:Beyond the Stethoscope: Grief and Bereavement/Social Work Perspective
DESCRIPTION:
URL:https://hospiceorillia.ca/support/beyond-the-stethoscope-grief-and-bereavement-social-work-perspective/
CATEGORIES:Podcast
END:VEVENT
BEGIN:VEVENT
DTSTART;TZID=America/Toronto:20250805T190000
DTEND;TZID=America/Toronto:20250805T190000
DTSTAMP:20260424T032905
CREATED:20241206T022642Z
LAST-MODIFIED:20250710T192614Z
UID:25719-1754420400-1754420400@hospiceorillia.ca
SUMMARY:PILO NSM Monthly Drop-In Group
DESCRIPTION:
URL:https://hospiceorillia.ca/support/pilo-nsm-monthly-drop-in-group-8/
LOCATION:St. Thomas Anglican Church\, 4 Mary Street\, Bracebridge\, ON\, Canada
END:VEVENT
BEGIN:VEVENT
DTSTART;TZID=America/Toronto:20250801T000000
DTEND;TZID=America/Toronto:20250801T000000
DTSTAMP:20260424T032905
CREATED:20250910T133031Z
LAST-MODIFIED:20250910T134753Z
UID:26841-1754006400-1754006400@hospiceorillia.ca
SUMMARY:Beyond the Stethoscope: Access to Palliaitve Care for Vulnerable Populations
DESCRIPTION:
URL:https://hospiceorillia.ca/support/beyond-the-stethoscope-access-to-palliaitve-care-for-vulnerable-populations/
CATEGORIES:Podcast
END:VEVENT
BEGIN:VEVENT
DTSTART;TZID=America/Toronto:20250724T113000
DTEND;TZID=America/Toronto:20250724T133000
DTSTAMP:20260424T032905
CREATED:20241206T232208Z
LAST-MODIFIED:20250710T192455Z
UID:25819-1753356600-1753363800@hospiceorillia.ca
SUMMARY:Adult Child Loss Support Group
DESCRIPTION:Registration Required. Please contact Louise Brazier at louise@hospiceorillia.ca (705) 325-0505 ext. 209 to register.
URL:https://hospiceorillia.ca/support/adult-child-loss-support-group-17/
CATEGORIES:Bereavement Support
END:VEVENT
BEGIN:VEVENT
DTSTART;TZID=America/Toronto:20250714T093000
DTEND;TZID=America/Toronto:20250714T110000
DTSTAMP:20260424T032905
CREATED:20241206T231851Z
LAST-MODIFIED:20250710T192529Z
UID:25779-1752485400-1752490800@hospiceorillia.ca
SUMMARY:Coffee and Care
DESCRIPTION:Registration Required. Please contact Louise Brazier at louise@hospiceorillia.ca (705) 325-0505 ext. 209 to register.
URL:https://hospiceorillia.ca/support/coffee-and-care-32/
CATEGORIES:Bereavement Support
END:VEVENT
BEGIN:VEVENT
DTSTART;TZID=UTC:20250708T190000
DTEND;TZID=UTC:20250708T190000
DTSTAMP:20260424T032905
CREATED:20241206T022642Z
LAST-MODIFIED:20241206T022642Z
UID:25718-1752001200-1752001200@hospiceorillia.ca
SUMMARY:PILO NSM Monthly Drop-In Group
DESCRIPTION:
URL:https://hospiceorillia.ca/support/pilo-nsm-monthly-drop-in-group-7/
LOCATION:St. Thomas Anglican Church\, 4 Mary Street\, Bracebridge\, ON\, Canada
END:VEVENT
BEGIN:VEVENT
DTSTART;TZID=UTC:20250707T093000
DTEND;TZID=UTC:20250707T110000
DTSTAMP:20260424T032905
CREATED:20241206T231851Z
LAST-MODIFIED:20241206T231851Z
UID:25778-1751880600-1751886000@hospiceorillia.ca
SUMMARY:Coffee and Care
DESCRIPTION:Registration Required. Please contact Louise Brazier at louise@hospiceorillia.ca (705) 325-0505 ext. 209 to register.
URL:https://hospiceorillia.ca/support/coffee-and-care-31/
CATEGORIES:Bereavement Support
END:VEVENT
BEGIN:VEVENT
DTSTART;TZID=America/Toronto:20250701T000000
DTEND;TZID=America/Toronto:20250701T000000
DTSTAMP:20260424T032905
CREATED:20250910T133031Z
LAST-MODIFIED:20250910T134753Z
UID:26842-1751328000-1751328000@hospiceorillia.ca
SUMMARY:Beyond the Stethoscope: Palliative Care in Severe Mental Illness
DESCRIPTION:
URL:https://hospiceorillia.ca/support/beyond-the-stethoscope-palliative-care-in-severe-mental-illness/
CATEGORIES:Podcast
END:VEVENT
BEGIN:VEVENT
DTSTART;TZID=UTC:20250630T093000
DTEND;TZID=UTC:20250630T110000
DTSTAMP:20260424T032905
CREATED:20241206T231836Z
LAST-MODIFIED:20241206T231836Z
UID:25777-1751275800-1751281200@hospiceorillia.ca
SUMMARY:Coffee and Care
DESCRIPTION:Registration Required. Please contact Louise Brazier at louise@hospiceorillia.ca (705) 325-0505 ext. 209 to register.
URL:https://hospiceorillia.ca/support/coffee-and-care-30/
CATEGORIES:Bereavement Support
END:VEVENT
BEGIN:VEVENT
DTSTART;TZID=UTC:20250626T113000
DTEND;TZID=UTC:20250626T133000
DTSTAMP:20260424T032905
CREATED:20241206T232121Z
LAST-MODIFIED:20241206T232121Z
UID:25817-1750937400-1750944600@hospiceorillia.ca
SUMMARY:Adult Child Loss Support Group
DESCRIPTION:Registration Required. Please contact Louise Brazier at louise@hospiceorillia.ca (705) 325-0505 ext. 209 to register.
URL:https://hospiceorillia.ca/support/adult-child-loss-support-group-15/
CATEGORIES:Bereavement Support
END:VEVENT
BEGIN:VEVENT
DTSTART;TZID=America/Toronto:20250625T183000
DTEND;TZID=America/Toronto:20250625T200000
DTSTAMP:20260424T032905
CREATED:20250515T194836Z
LAST-MODIFIED:20250603T192740Z
UID:26396-1750876200-1750881600@hospiceorillia.ca
SUMMARY:2025 Garden of Remembrance
DESCRIPTION:
URL:https://hospiceorillia.ca/support/2025-garden-of-remembrance/
LOCATION:Couchiching Beach Park\, Orillia\, 140 Canice St\, Orillia\, Ontario\, L3V4H8\, Canada
CATEGORIES:Memorial Event
END:VEVENT
BEGIN:VEVENT
DTSTART;TZID=America/Toronto:20250623T160000
DTEND;TZID=America/Toronto:20250623T163000
DTSTAMP:20260424T032905
CREATED:20250522T151605Z
LAST-MODIFIED:20250604T144236Z
UID:26408-1750694400-1750696200@hospiceorillia.ca
SUMMARY:AGM
DESCRIPTION:
URL:https://hospiceorillia.ca/support/agm-2/
END:VEVENT
BEGIN:VEVENT
DTSTART;TZID=UTC:20250623T093000
DTEND;TZID=UTC:20250623T110000
DTSTAMP:20260424T032905
CREATED:20241206T231836Z
LAST-MODIFIED:20241206T231836Z
UID:25776-1750671000-1750676400@hospiceorillia.ca
SUMMARY:Coffee and Care
DESCRIPTION:Registration Required. Please contact Louise Brazier at louise@hospiceorillia.ca (705) 325-0505 ext. 209 to register.
URL:https://hospiceorillia.ca/support/coffee-and-care-29/
CATEGORIES:Bereavement Support
END:VEVENT
BEGIN:VEVENT
DTSTART;TZID=UTC:20250616T093000
DTEND;TZID=UTC:20250616T110000
DTSTAMP:20260424T032905
CREATED:20241206T231836Z
LAST-MODIFIED:20241206T231836Z
UID:25775-1750066200-1750071600@hospiceorillia.ca
SUMMARY:Coffee and Care
DESCRIPTION:Registration Required. Please contact Louise Brazier at louise@hospiceorillia.ca (705) 325-0505 ext. 209 to register.
URL:https://hospiceorillia.ca/support/coffee-and-care-28/
CATEGORIES:Bereavement Support
END:VEVENT
BEGIN:VEVENT
DTSTART;TZID=UTC:20250612T113000
DTEND;TZID=UTC:20250612T133000
DTSTAMP:20260424T032905
CREATED:20241206T232121Z
LAST-MODIFIED:20241206T232121Z
UID:25816-1749727800-1749735000@hospiceorillia.ca
SUMMARY:Adult Child Loss Support Group
DESCRIPTION:Registration Required. Please contact Louise Brazier at louise@hospiceorillia.ca (705) 325-0505 ext. 209 to register.
URL:https://hospiceorillia.ca/support/adult-child-loss-support-group-14/
CATEGORIES:Bereavement Support
END:VEVENT
BEGIN:VEVENT
DTSTART;TZID=UTC:20250609T093000
DTEND;TZID=UTC:20250609T110000
DTSTAMP:20260424T032905
CREATED:20241206T231836Z
LAST-MODIFIED:20241206T231836Z
UID:25774-1749461400-1749466800@hospiceorillia.ca
SUMMARY:Coffee and Care
DESCRIPTION:Registration Required. Please contact Louise Brazier at louise@hospiceorillia.ca (705) 325-0505 ext. 209 to register.
URL:https://hospiceorillia.ca/support/coffee-and-care-27/
CATEGORIES:Bereavement Support
END:VEVENT
BEGIN:VEVENT
DTSTART;TZID=UTC:20250603T190000
DTEND;TZID=UTC:20250603T190000
DTSTAMP:20260424T032905
CREATED:20241206T022642Z
LAST-MODIFIED:20241206T022642Z
UID:25717-1748977200-1748977200@hospiceorillia.ca
SUMMARY:PILO NSM Monthly Drop-In Group
DESCRIPTION:
URL:https://hospiceorillia.ca/support/pilo-nsm-monthly-drop-in-group-6/
LOCATION:St. Thomas Anglican Church\, 4 Mary Street\, Bracebridge\, ON\, Canada
END:VEVENT
BEGIN:VEVENT
DTSTART;TZID=UTC:20250602T093000
DTEND;TZID=UTC:20250602T110000
DTSTAMP:20260424T032905
CREATED:20241206T231836Z
LAST-MODIFIED:20241206T231836Z
UID:25773-1748856600-1748862000@hospiceorillia.ca
SUMMARY:Coffee and Care
DESCRIPTION:Registration Required. Please contact Louise Brazier at louise@hospiceorillia.ca (705) 325-0505 ext. 209 to register.
URL:https://hospiceorillia.ca/support/coffee-and-care-26/
CATEGORIES:Bereavement Support
END:VEVENT
BEGIN:VEVENT
DTSTART;TZID=America/Toronto:20250601T000000
DTEND;TZID=America/Toronto:20250601T000000
DTSTAMP:20260424T032905
CREATED:20250910T133031Z
LAST-MODIFIED:20250910T134754Z
UID:26843-1748736000-1748736000@hospiceorillia.ca
SUMMARY:Beyond the Stethoscope: Normalizing Talking About Death and Dying
DESCRIPTION:
URL:https://hospiceorillia.ca/support/beyond-the-stethoscope-normalizing-talking-about-death-and-dying/
CATEGORIES:Podcast
END:VEVENT
BEGIN:VEVENT
DTSTART;TZID=UTC:20250529T113000
DTEND;TZID=UTC:20250529T133000
DTSTAMP:20260424T032905
CREATED:20241206T232121Z
LAST-MODIFIED:20241206T232121Z
UID:25815-1748518200-1748525400@hospiceorillia.ca
SUMMARY:Adult Child Loss Support Group
DESCRIPTION:Registration Required. Please contact Louise Brazier at louise@hospiceorillia.ca (705) 325-0505 ext. 209 to register.
URL:https://hospiceorillia.ca/support/adult-child-loss-support-group-13/
CATEGORIES:Bereavement Support
END:VEVENT
BEGIN:VEVENT
DTSTART;TZID=UTC:20250526T093000
DTEND;TZID=UTC:20250526T110000
DTSTAMP:20260424T032905
CREATED:20241206T231821Z
LAST-MODIFIED:20241206T231821Z
UID:25772-1748251800-1748257200@hospiceorillia.ca
SUMMARY:Coffee and Care
DESCRIPTION:Registration Required. Please contact Louise Brazier at louise@hospiceorillia.ca (705) 325-0505 ext. 209 to register.
URL:https://hospiceorillia.ca/support/coffee-and-care-25/
CATEGORIES:Bereavement Support
END:VEVENT
BEGIN:VEVENT
DTSTART;TZID=UTC:20250519T093000
DTEND;TZID=UTC:20250519T110000
DTSTAMP:20260424T032905
CREATED:20241206T231821Z
LAST-MODIFIED:20241206T231821Z
UID:25771-1747647000-1747652400@hospiceorillia.ca
SUMMARY:Coffee and Care
DESCRIPTION:Registration Required. Please contact Louise Brazier at louise@hospiceorillia.ca (705) 325-0505 ext. 209 to register.
URL:https://hospiceorillia.ca/support/coffee-and-care-24/
CATEGORIES:Bereavement Support
END:VEVENT
BEGIN:VEVENT
DTSTART;TZID=UTC:20250515T113000
DTEND;TZID=UTC:20250515T133000
DTSTAMP:20260424T032905
CREATED:20241206T232121Z
LAST-MODIFIED:20241206T232121Z
UID:25814-1747308600-1747315800@hospiceorillia.ca
SUMMARY:Adult Child Loss Support Group
DESCRIPTION:Registration Required. Please contact Louise Brazier at louise@hospiceorillia.ca (705) 325-0505 ext. 209 to register.
URL:https://hospiceorillia.ca/support/adult-child-loss-support-group-12/
CATEGORIES:Bereavement Support
END:VEVENT
BEGIN:VEVENT
DTSTART;TZID=UTC:20250512T093000
DTEND;TZID=UTC:20250512T110000
DTSTAMP:20260424T032905
CREATED:20241206T231821Z
LAST-MODIFIED:20241206T231821Z
UID:25770-1747042200-1747047600@hospiceorillia.ca
SUMMARY:Coffee and Care
DESCRIPTION:Registration Required. Please contact Louise Brazier at louise@hospiceorillia.ca (705) 325-0505 ext. 209 to register.
URL:https://hospiceorillia.ca/support/coffee-and-care-23/
CATEGORIES:Bereavement Support
END:VEVENT
BEGIN:VEVENT
DTSTART;TZID=UTC:20250506T190000
DTEND;TZID=UTC:20250506T190000
DTSTAMP:20260424T032905
CREATED:20241206T022642Z
LAST-MODIFIED:20241206T022642Z
UID:25716-1746558000-1746558000@hospiceorillia.ca
SUMMARY:PILO NSM Monthly Drop-In Group
DESCRIPTION:
URL:https://hospiceorillia.ca/support/pilo-nsm-monthly-drop-in-group-5/
LOCATION:St. Thomas Anglican Church\, 4 Mary Street\, Bracebridge\, ON\, Canada
END:VEVENT
BEGIN:VEVENT
DTSTART;TZID=UTC:20250505T093000
DTEND;TZID=UTC:20250505T110000
DTSTAMP:20260424T032905
CREATED:20241206T231821Z
LAST-MODIFIED:20241206T231821Z
UID:25769-1746437400-1746442800@hospiceorillia.ca
SUMMARY:Coffee and Care
DESCRIPTION:Registration Required. Please contact Louise Brazier at louise@hospiceorillia.ca (705) 325-0505 ext. 209 to register.
URL:https://hospiceorillia.ca/support/coffee-and-care-22/
CATEGORIES:Bereavement Support
END:VEVENT
BEGIN:VEVENT
DTSTART;TZID=UTC:20250504T103000
DTEND;TZID=UTC:20250504T150000
DTSTAMP:20260424T032905
CREATED:20250108T001200Z
LAST-MODIFIED:20250414T180018Z
UID:25928-1746354600-1746370800@hospiceorillia.ca
SUMMARY:2025 Hike for Hospice
DESCRIPTION:
URL:https://hospiceorillia.ca/support/2025-hike-for-hospice/
LOCATION:Tudhope Park\, 450 Atherley Rd\, Orillia\, Ontario\, L3V 1P2\, Canada
CATEGORIES:Community Events,Memorial Event
END:VEVENT
END:VCALENDAR