BEGIN:VCALENDAR
VERSION:2.0
PRODID:-//Hospice Orillia - ECPv6.15.20//NONSGML v1.0//EN
CALSCALE:GREGORIAN
METHOD:PUBLISH
X-ORIGINAL-URL:https://hospiceorillia.ca
X-WR-CALDESC:Events for Hospice Orillia
REFRESH-INTERVAL;VALUE=DURATION:PT1H
X-Robots-Tag:noindex
X-PUBLISHED-TTL:PT1H
BEGIN:VTIMEZONE
TZID:UTC
BEGIN:STANDARD
TZOFFSETFROM:+0000
TZOFFSETTO:+0000
TZNAME:UTC
DTSTART:20240101T000000
END:STANDARD
END:VTIMEZONE
BEGIN:VTIMEZONE
TZID:America/Toronto
BEGIN:DAYLIGHT
TZOFFSETFROM:-0500
TZOFFSETTO:-0400
TZNAME:EDT
DTSTART:20240310T070000
END:DAYLIGHT
BEGIN:STANDARD
TZOFFSETFROM:-0400
TZOFFSETTO:-0500
TZNAME:EST
DTSTART:20241103T060000
END:STANDARD
BEGIN:DAYLIGHT
TZOFFSETFROM:-0500
TZOFFSETTO:-0400
TZNAME:EDT
DTSTART:20250309T070000
END:DAYLIGHT
BEGIN:STANDARD
TZOFFSETFROM:-0400
TZOFFSETTO:-0500
TZNAME:EST
DTSTART:20251102T060000
END:STANDARD
BEGIN:DAYLIGHT
TZOFFSETFROM:-0500
TZOFFSETTO:-0400
TZNAME:EDT
DTSTART:20260308T070000
END:DAYLIGHT
BEGIN:STANDARD
TZOFFSETFROM:-0400
TZOFFSETTO:-0500
TZNAME:EST
DTSTART:20261101T060000
END:STANDARD
END:VTIMEZONE
BEGIN:VEVENT
DTSTART;TZID=UTC:20250113T093000
DTEND;TZID=UTC:20250113T110000
DTSTAMP:20260425T125349
CREATED:20241206T231735Z
LAST-MODIFIED:20241206T231736Z
UID:25748-1736760600-1736766000@hospiceorillia.ca
SUMMARY:Coffee and Care
DESCRIPTION:Registration Required. Please contact Louise Brazier at louise@hospiceorillia.ca (705) 325-0505 ext. 209 to register.
URL:https://hospiceorillia.ca/support/coffee-and-care-6/
CATEGORIES:Bereavement Support
END:VEVENT
BEGIN:VEVENT
DTSTART;TZID=UTC:20250120T093000
DTEND;TZID=UTC:20250120T110000
DTSTAMP:20260425T125349
CREATED:20241206T231735Z
LAST-MODIFIED:20241206T231736Z
UID:25749-1737365400-1737370800@hospiceorillia.ca
SUMMARY:Coffee and Care
DESCRIPTION:Registration Required. Please contact Louise Brazier at louise@hospiceorillia.ca (705) 325-0505 ext. 209 to register.
URL:https://hospiceorillia.ca/support/coffee-and-care-7/
CATEGORIES:Bereavement Support
END:VEVENT
BEGIN:VEVENT
DTSTART;TZID=UTC:20250123T113000
DTEND;TZID=UTC:20250123T133000
DTSTAMP:20260425T125349
CREATED:20241206T232051Z
LAST-MODIFIED:20241206T232051Z
UID:25806-1737631800-1737639000@hospiceorillia.ca
SUMMARY:Adult Child Loss Support Group
DESCRIPTION:Registration Required. Please contact Louise Brazier at louise@hospiceorillia.ca (705) 325-0505 ext. 209 to register.
URL:https://hospiceorillia.ca/support/adult-child-loss-support-group-4/
CATEGORIES:Bereavement Support
END:VEVENT
BEGIN:VEVENT
DTSTART;TZID=UTC:20250127T093000
DTEND;TZID=UTC:20250127T110000
DTSTAMP:20260425T125349
CREATED:20241206T231735Z
LAST-MODIFIED:20241206T231736Z
UID:25750-1737970200-1737975600@hospiceorillia.ca
SUMMARY:Coffee and Care
DESCRIPTION:Registration Required. Please contact Louise Brazier at louise@hospiceorillia.ca (705) 325-0505 ext. 209 to register.
URL:https://hospiceorillia.ca/support/coffee-and-care-8/
CATEGORIES:Bereavement Support
END:VEVENT
BEGIN:VEVENT
DTSTART;TZID=UTC:20250203T093000
DTEND;TZID=UTC:20250203T110000
DTSTAMP:20260425T125349
CREATED:20241206T231735Z
LAST-MODIFIED:20241206T231736Z
UID:25751-1738575000-1738580400@hospiceorillia.ca
SUMMARY:Coffee and Care
DESCRIPTION:Registration Required. Please contact Louise Brazier at louise@hospiceorillia.ca (705) 325-0505 ext. 209 to register.
URL:https://hospiceorillia.ca/support/coffee-and-care-9/
CATEGORIES:Bereavement Support
END:VEVENT
BEGIN:VEVENT
DTSTART;TZID=UTC:20250204T190000
DTEND;TZID=UTC:20250204T190000
DTSTAMP:20260425T125349
CREATED:20241206T022639Z
LAST-MODIFIED:20241206T022639Z
UID:25713-1738695600-1738695600@hospiceorillia.ca
SUMMARY:PILO NSM Monthly Drop-In Group
DESCRIPTION:
URL:https://hospiceorillia.ca/support/pilo-nsm-monthly-drop-in-group-2/
LOCATION:St. Thomas Anglican Church\, 4 Mary Street\, Bracebridge\, ON\, Canada
END:VEVENT
BEGIN:VEVENT
DTSTART;TZID=UTC:20250206T113000
DTEND;TZID=UTC:20250206T133000
DTSTAMP:20260425T125349
CREATED:20241206T232051Z
LAST-MODIFIED:20241206T232051Z
UID:25807-1738841400-1738848600@hospiceorillia.ca
SUMMARY:Adult Child Loss Support Group
DESCRIPTION:Registration Required. Please contact Louise Brazier at louise@hospiceorillia.ca (705) 325-0505 ext. 209 to register.
URL:https://hospiceorillia.ca/support/adult-child-loss-support-group-5/
CATEGORIES:Bereavement Support
END:VEVENT
BEGIN:VEVENT
DTSTART;TZID=UTC:20250210T093000
DTEND;TZID=UTC:20250210T110000
DTSTAMP:20260425T125349
CREATED:20241206T231736Z
LAST-MODIFIED:20241206T231736Z
UID:25752-1739179800-1739185200@hospiceorillia.ca
SUMMARY:Coffee and Care
DESCRIPTION:Registration Required. Please contact Louise Brazier at louise@hospiceorillia.ca (705) 325-0505 ext. 209 to register.
URL:https://hospiceorillia.ca/support/coffee-and-care-10/
CATEGORIES:Bereavement Support
END:VEVENT
BEGIN:VEVENT
DTSTART;TZID=UTC:20250217T093000
DTEND;TZID=UTC:20250217T110000
DTSTAMP:20260425T125349
CREATED:20241206T231750Z
LAST-MODIFIED:20241206T231750Z
UID:25758-1739784600-1739790000@hospiceorillia.ca
SUMMARY:Coffee and Care
DESCRIPTION:Registration Required. Please contact Louise Brazier at louise@hospiceorillia.ca (705) 325-0505 ext. 209 to register.
URL:https://hospiceorillia.ca/support/coffee-and-care-11/
CATEGORIES:Bereavement Support
END:VEVENT
BEGIN:VEVENT
DTSTART;TZID=UTC:20250220T113000
DTEND;TZID=UTC:20250220T133000
DTSTAMP:20260425T125349
CREATED:20241206T232106Z
LAST-MODIFIED:20241206T232106Z
UID:25808-1740051000-1740058200@hospiceorillia.ca
SUMMARY:Adult Child Loss Support Group
DESCRIPTION:Registration Required. Please contact Louise Brazier at louise@hospiceorillia.ca (705) 325-0505 ext. 209 to register.
URL:https://hospiceorillia.ca/support/adult-child-loss-support-group-6/
CATEGORIES:Bereavement Support
END:VEVENT
BEGIN:VEVENT
DTSTART;TZID=UTC:20250224T093000
DTEND;TZID=UTC:20250224T110000
DTSTAMP:20260425T125349
CREATED:20241206T231750Z
LAST-MODIFIED:20241206T231750Z
UID:25759-1740389400-1740394800@hospiceorillia.ca
SUMMARY:Coffee and Care
DESCRIPTION:Registration Required. Please contact Louise Brazier at louise@hospiceorillia.ca (705) 325-0505 ext. 209 to register.
URL:https://hospiceorillia.ca/support/coffee-and-care-12/
CATEGORIES:Bereavement Support
END:VEVENT
BEGIN:VEVENT
DTSTART;TZID=America/Toronto:20250301T000000
DTEND;TZID=America/Toronto:20250301T000000
DTSTAMP:20260425T125349
CREATED:20250910T133726Z
LAST-MODIFIED:20250910T134056Z
UID:26883-1740787200-1740787200@hospiceorillia.ca
SUMMARY:Beyond the Stethoscope: Palliative Care Conversations
DESCRIPTION:
URL:https://hospiceorillia.ca/support/beyond-the-stethoscope-palliative-care-conversations-2/
CATEGORIES:Podcast
END:VEVENT
BEGIN:VEVENT
DTSTART;TZID=UTC:20250303T093000
DTEND;TZID=UTC:20250303T110000
DTSTAMP:20260425T125349
CREATED:20241206T231750Z
LAST-MODIFIED:20241206T231750Z
UID:25760-1740994200-1740999600@hospiceorillia.ca
SUMMARY:Coffee and Care
DESCRIPTION:Registration Required. Please contact Louise Brazier at louise@hospiceorillia.ca (705) 325-0505 ext. 209 to register.
URL:https://hospiceorillia.ca/support/coffee-and-care-13/
CATEGORIES:Bereavement Support
END:VEVENT
BEGIN:VEVENT
DTSTART;TZID=UTC:20250304T170000
DTEND;TZID=UTC:20250304T190000
DTSTAMP:20260425T125349
CREATED:20241206T022639Z
LAST-MODIFIED:20250303T190320Z
UID:25714-1741107600-1741114800@hospiceorillia.ca
SUMMARY:PILO NSM Monthly Drop-In Group (NEW LOCATION FOR THIS DATE)
DESCRIPTION:
URL:https://hospiceorillia.ca/support/pilo-nsm-monthly-drop-in-group-3/
LOCATION:Huntsville Public Library\, 7 Minerva St E\, Huntsville\, ON\, Canada
END:VEVENT
BEGIN:VEVENT
DTSTART;TZID=UTC:20250306T113000
DTEND;TZID=UTC:20250306T133000
DTSTAMP:20260425T125350
CREATED:20241206T232106Z
LAST-MODIFIED:20241206T232106Z
UID:25809-1741260600-1741267800@hospiceorillia.ca
SUMMARY:Adult Child Loss Support Group
DESCRIPTION:Registration Required. Please contact Louise Brazier at louise@hospiceorillia.ca (705) 325-0505 ext. 209 to register.
URL:https://hospiceorillia.ca/support/adult-child-loss-support-group-7/
CATEGORIES:Bereavement Support
END:VEVENT
BEGIN:VEVENT
DTSTART;TZID=UTC:20250310T093000
DTEND;TZID=UTC:20250310T110000
DTSTAMP:20260425T125350
CREATED:20241206T231750Z
LAST-MODIFIED:20241206T231750Z
UID:25761-1741599000-1741604400@hospiceorillia.ca
SUMMARY:Coffee and Care
DESCRIPTION:Registration Required. Please contact Louise Brazier at louise@hospiceorillia.ca (705) 325-0505 ext. 209 to register.
URL:https://hospiceorillia.ca/support/coffee-and-care-14/
CATEGORIES:Bereavement Support
END:VEVENT
BEGIN:VEVENT
DTSTART;TZID=UTC:20250317T093000
DTEND;TZID=UTC:20250317T110000
DTSTAMP:20260425T125350
CREATED:20241206T231750Z
LAST-MODIFIED:20241206T231750Z
UID:25762-1742203800-1742209200@hospiceorillia.ca
SUMMARY:Coffee and Care
DESCRIPTION:Registration Required. Please contact Louise Brazier at louise@hospiceorillia.ca (705) 325-0505 ext. 209 to register.
URL:https://hospiceorillia.ca/support/coffee-and-care-15/
CATEGORIES:Bereavement Support
END:VEVENT
BEGIN:VEVENT
DTSTART;TZID=UTC:20250320T113000
DTEND;TZID=UTC:20250320T133000
DTSTAMP:20260425T125350
CREATED:20241206T232106Z
LAST-MODIFIED:20241206T232106Z
UID:25810-1742470200-1742477400@hospiceorillia.ca
SUMMARY:Adult Child Loss Support Group
DESCRIPTION:Registration Required. Please contact Louise Brazier at louise@hospiceorillia.ca (705) 325-0505 ext. 209 to register.
URL:https://hospiceorillia.ca/support/adult-child-loss-support-group-8/
CATEGORIES:Bereavement Support
END:VEVENT
BEGIN:VEVENT
DTSTART;TZID=UTC:20250324T093000
DTEND;TZID=UTC:20250324T110000
DTSTAMP:20260425T125350
CREATED:20241206T231805Z
LAST-MODIFIED:20241206T231805Z
UID:25763-1742808600-1742814000@hospiceorillia.ca
SUMMARY:Coffee and Care
DESCRIPTION:Registration Required. Please contact Louise Brazier at louise@hospiceorillia.ca (705) 325-0505 ext. 209 to register.
URL:https://hospiceorillia.ca/support/coffee-and-care-16/
CATEGORIES:Bereavement Support
END:VEVENT
BEGIN:VEVENT
DTSTART;TZID=UTC:20250331T093000
DTEND;TZID=UTC:20250331T110000
DTSTAMP:20260425T125350
CREATED:20241206T231805Z
LAST-MODIFIED:20241206T231805Z
UID:25764-1743413400-1743418800@hospiceorillia.ca
SUMMARY:Coffee and Care
DESCRIPTION:Registration Required. Please contact Louise Brazier at louise@hospiceorillia.ca (705) 325-0505 ext. 209 to register.
URL:https://hospiceorillia.ca/support/coffee-and-care-17/
CATEGORIES:Bereavement Support
END:VEVENT
BEGIN:VEVENT
DTSTART;TZID=America/Toronto:20250401T000000
DTEND;TZID=America/Toronto:20250401T000000
DTSTAMP:20260425T125350
CREATED:20250910T133725Z
LAST-MODIFIED:20250910T134056Z
UID:26882-1743465600-1743465600@hospiceorillia.ca
SUMMARY:Beyond the Stethoscope: Advanced Care Planning
DESCRIPTION:
URL:https://hospiceorillia.ca/support/beyond-the-stethoscope-advanced-care-planning/
CATEGORIES:Podcast
END:VEVENT
BEGIN:VEVENT
DTSTART;TZID=UTC:20250401T190000
DTEND;TZID=UTC:20250401T190000
DTSTAMP:20260425T125350
CREATED:20241206T022639Z
LAST-MODIFIED:20241206T022639Z
UID:25715-1743534000-1743534000@hospiceorillia.ca
SUMMARY:PILO NSM Monthly Drop-In Group
DESCRIPTION:
URL:https://hospiceorillia.ca/support/pilo-nsm-monthly-drop-in-group-4/
LOCATION:St. Thomas Anglican Church\, 4 Mary Street\, Bracebridge\, ON\, Canada
END:VEVENT
BEGIN:VEVENT
DTSTART;TZID=UTC:20250403T113000
DTEND;TZID=UTC:20250403T133000
DTSTAMP:20260425T125350
CREATED:20241206T232106Z
LAST-MODIFIED:20250402T165253Z
UID:25811-1743679800-1743687000@hospiceorillia.ca
SUMMARY:Adult Child Loss Support Group
DESCRIPTION:Registration Required. Please contact Louise Brazier at louise@hospiceorillia.ca (705) 325-0505 ext. 209 to register.
URL:https://hospiceorillia.ca/support/adult-child-loss-support-group-9/
CATEGORIES:Bereavement Support
END:VEVENT
BEGIN:VEVENT
DTSTART;TZID=UTC:20250407T093000
DTEND;TZID=UTC:20250407T110000
DTSTAMP:20260425T125350
CREATED:20241206T231805Z
LAST-MODIFIED:20241206T231805Z
UID:25765-1744018200-1744023600@hospiceorillia.ca
SUMMARY:Coffee and Care
DESCRIPTION:Registration Required. Please contact Louise Brazier at louise@hospiceorillia.ca (705) 325-0505 ext. 209 to register.
URL:https://hospiceorillia.ca/support/coffee-and-care-18/
CATEGORIES:Bereavement Support
END:VEVENT
BEGIN:VEVENT
DTSTART;TZID=UTC:20250414T093000
DTEND;TZID=UTC:20250414T110000
DTSTAMP:20260425T125350
CREATED:20241206T231805Z
LAST-MODIFIED:20241206T231805Z
UID:25766-1744623000-1744628400@hospiceorillia.ca
SUMMARY:Coffee and Care
DESCRIPTION:Registration Required. Please contact Louise Brazier at louise@hospiceorillia.ca (705) 325-0505 ext. 209 to register.
URL:https://hospiceorillia.ca/support/coffee-and-care-19/
CATEGORIES:Bereavement Support
END:VEVENT
BEGIN:VEVENT
DTSTART;TZID=UTC:20250417T113000
DTEND;TZID=UTC:20250417T133000
DTSTAMP:20260425T125350
CREATED:20241206T232106Z
LAST-MODIFIED:20241206T232106Z
UID:25812-1744889400-1744896600@hospiceorillia.ca
SUMMARY:Adult Child Loss Support Group
DESCRIPTION:Registration Required. Please contact Louise Brazier at louise@hospiceorillia.ca (705) 325-0505 ext. 209 to register.
URL:https://hospiceorillia.ca/support/adult-child-loss-support-group-10/
CATEGORIES:Bereavement Support
END:VEVENT
BEGIN:VEVENT
DTSTART;TZID=UTC:20250421T093000
DTEND;TZID=UTC:20250421T110000
DTSTAMP:20260425T125350
CREATED:20241206T231805Z
LAST-MODIFIED:20241206T231805Z
UID:25767-1745227800-1745233200@hospiceorillia.ca
SUMMARY:Coffee and Care
DESCRIPTION:Registration Required. Please contact Louise Brazier at louise@hospiceorillia.ca (705) 325-0505 ext. 209 to register.
URL:https://hospiceorillia.ca/support/coffee-and-care-20/
CATEGORIES:Bereavement Support
END:VEVENT
BEGIN:VEVENT
DTSTART;TZID=UTC:20250428T093000
DTEND;TZID=UTC:20250428T110000
DTSTAMP:20260425T125350
CREATED:20241206T231821Z
LAST-MODIFIED:20241206T231821Z
UID:25768-1745832600-1745838000@hospiceorillia.ca
SUMMARY:Coffee and Care
DESCRIPTION:Registration Required. Please contact Louise Brazier at louise@hospiceorillia.ca (705) 325-0505 ext. 209 to register.
URL:https://hospiceorillia.ca/support/coffee-and-care-21/
CATEGORIES:Bereavement Support
END:VEVENT
BEGIN:VEVENT
DTSTART;TZID=America/Toronto:20250501T000000
DTEND;TZID=America/Toronto:20250501T000000
DTSTAMP:20260425T125350
CREATED:20250910T133031Z
LAST-MODIFIED:20250910T134754Z
UID:26844-1746057600-1746057600@hospiceorillia.ca
SUMMARY:Beyond the Stethoscope: Chronic Diseases
DESCRIPTION:
URL:https://hospiceorillia.ca/support/beyond-the-stethoscope-chronic-diseases/
CATEGORIES:Podcast
END:VEVENT
BEGIN:VEVENT
DTSTART;TZID=UTC:20250501T113000
DTEND;TZID=UTC:20250501T133000
DTSTAMP:20260425T125350
CREATED:20241206T232121Z
LAST-MODIFIED:20241206T232121Z
UID:25813-1746099000-1746106200@hospiceorillia.ca
SUMMARY:Adult Child Loss Support Group
DESCRIPTION:Registration Required. Please contact Louise Brazier at louise@hospiceorillia.ca (705) 325-0505 ext. 209 to register.
URL:https://hospiceorillia.ca/support/adult-child-loss-support-group-11/
CATEGORIES:Bereavement Support
END:VEVENT
END:VCALENDAR