BEGIN:VCALENDAR
VERSION:2.0
PRODID:-//Hospice Orillia - ECPv6.15.20//NONSGML v1.0//EN
CALSCALE:GREGORIAN
METHOD:PUBLISH
X-WR-CALNAME:Hospice Orillia
X-ORIGINAL-URL:https://hospiceorillia.ca
X-WR-CALDESC:Events for Hospice Orillia
REFRESH-INTERVAL;VALUE=DURATION:PT1H
X-Robots-Tag:noindex
X-PUBLISHED-TTL:PT1H
BEGIN:VTIMEZONE
TZID:UTC
BEGIN:STANDARD
TZOFFSETFROM:+0000
TZOFFSETTO:+0000
TZNAME:UTC
DTSTART:20180101T000000
END:STANDARD
END:VTIMEZONE
BEGIN:VTIMEZONE
TZID:America/Toronto
BEGIN:DAYLIGHT
TZOFFSETFROM:-0500
TZOFFSETTO:-0400
TZNAME:EDT
DTSTART:20200308T070000
END:DAYLIGHT
BEGIN:STANDARD
TZOFFSETFROM:-0400
TZOFFSETTO:-0500
TZNAME:EST
DTSTART:20201101T060000
END:STANDARD
BEGIN:DAYLIGHT
TZOFFSETFROM:-0500
TZOFFSETTO:-0400
TZNAME:EDT
DTSTART:20210314T070000
END:DAYLIGHT
BEGIN:STANDARD
TZOFFSETFROM:-0400
TZOFFSETTO:-0500
TZNAME:EST
DTSTART:20211107T060000
END:STANDARD
BEGIN:DAYLIGHT
TZOFFSETFROM:-0500
TZOFFSETTO:-0400
TZNAME:EDT
DTSTART:20220313T070000
END:DAYLIGHT
BEGIN:STANDARD
TZOFFSETFROM:-0400
TZOFFSETTO:-0500
TZNAME:EST
DTSTART:20221106T060000
END:STANDARD
END:VTIMEZONE
BEGIN:VEVENT
DTSTART;TZID=UTC:20230626T170000
DTEND;TZID=UTC:20230626T173000
DTSTAMP:20260424T153416
CREATED:20230523T200905Z
LAST-MODIFIED:20230523T200905Z
UID:23236-1687798800-1687800600@hospiceorillia.ca
SUMMARY:AGM
DESCRIPTION:
URL:https://hospiceorillia.ca/support/agm/
END:VEVENT
BEGIN:VEVENT
DTSTART;TZID=UTC:20230622T183000
DTEND;TZID=UTC:20230622T200000
DTSTAMP:20260424T153416
CREATED:20230203T215851Z
LAST-MODIFIED:20230523T201128Z
UID:22752-1687458600-1687464000@hospiceorillia.ca
SUMMARY:2023 Garden of Remembrance
DESCRIPTION:
URL:https://hospiceorillia.ca/support/2023-garden-of-remembrance/
LOCATION:Tudhope Park\, 450 Atherley Rd\, Orillia\, Ontario\, L3V 1P2\, Canada
END:VEVENT
BEGIN:VEVENT
DTSTART;TZID=UTC:20230507T123000
DTEND;TZID=UTC:20230507T160000
DTSTAMP:20260424T153416
CREATED:20230203T204219Z
LAST-MODIFIED:20230331T172931Z
UID:22746-1683462600-1683475200@hospiceorillia.ca
SUMMARY:Hike for Hospice
DESCRIPTION:
URL:https://hospiceorillia.ca/support/hike-for-hospice/
LOCATION:Tudhope Park\, 450 Atherley Rd\, Orillia\, Ontario\, L3V 1P2\, Canada
END:VEVENT
BEGIN:VEVENT
DTSTART;VALUE=DATE:20230416
DTEND;VALUE=DATE:20230417
DTSTAMP:20260424T153416
CREATED:20230331T174101Z
LAST-MODIFIED:20230331T174101Z
UID:23034-1681603200-1681689599@hospiceorillia.ca
SUMMARY:Advance Care Planning Day
DESCRIPTION:  \nRESOURCES:\n \n \n 
URL:https://hospiceorillia.ca/support/advance-care-planning-day/
LOCATION:Your Choice
END:VEVENT
BEGIN:VEVENT
DTSTART;TZID=UTC:20220616T183000
DTEND;TZID=UTC:20220616T200000
DTSTAMP:20260424T153416
CREATED:20220517T183646Z
LAST-MODIFIED:20220517T184206Z
UID:18486-1655404200-1655409600@hospiceorillia.ca
SUMMARY:Garden of Remembrance
DESCRIPTION:
URL:https://hospiceorillia.ca/support/garden-of-remembrance-3/
LOCATION:Couchiching Beach Park\, Orillia\, 140 Canice St\, Orillia\, Ontario\, L3V4H8\, Canada
END:VEVENT
BEGIN:VEVENT
DTSTART;VALUE=DATE:20220501
DTEND;VALUE=DATE:20220502
DTSTAMP:20260424T153416
CREATED:20210916T002254Z
LAST-MODIFIED:20211110T024018Z
UID:16875-1651363200-1651449599@hospiceorillia.ca
SUMMARY:Hike for Hospice 2022
DESCRIPTION:
URL:https://hospiceorillia.ca/support/hike-for-hospice-2022/
LOCATION:Couchiching Beach Park\, Orillia\, 140 Canice St\, Orillia\, Ontario\, L3V4H8\, Canada
END:VEVENT
BEGIN:VEVENT
DTSTART;VALUE=DATE:20220401
DTEND;VALUE=DATE:20220717
DTSTAMP:20260424T153416
CREATED:20210624T001516Z
LAST-MODIFIED:20220718T222557Z
UID:16702-1648771200-1658015999@hospiceorillia.ca
SUMMARY:Dying Matters - Exhibition & Fundraiser
DESCRIPTION:
URL:https://hospiceorillia.ca/support/dying-matters-exhibition-fundraiser/
LOCATION:Orillia Museum of Art and History\, 30 Peter St S\, Orillia\, ON\, L3V 5A9\, Canada
END:VEVENT
BEGIN:VEVENT
DTSTART;TZID=UTC:20210628T170000
DTEND;TZID=UTC:20210628T173000
DTSTAMP:20260424T153416
CREATED:20210614T175058Z
LAST-MODIFIED:20210614T175122Z
UID:16687-1624899600-1624901400@hospiceorillia.ca
SUMMARY:NSMHPCN AGM
DESCRIPTION:Thank you for your interest in the NSMHPCN Annual General Meeting! \nThe AGM will take place on Monday June 28th via Zoom.  To receive access information for this meeting please click on the link below: \nAGM RSVP\n  \n 
URL:https://hospiceorillia.ca/support/nsmhpcn-agm/
END:VEVENT
BEGIN:VEVENT
DTSTART;TZID=UTC:20210603T183000
DTEND;TZID=UTC:20210603T193000
DTSTAMP:20260424T153421
CREATED:20210506T174651Z
LAST-MODIFIED:20210506T174651Z
UID:16603-1622745000-1622748600@hospiceorillia.ca
SUMMARY:Garden of Remembrance
DESCRIPTION:
URL:https://hospiceorillia.ca/support/garden-of-remembrance-2/
LOCATION:Online
END:VEVENT
BEGIN:VEVENT
DTSTART;VALUE=DATE:20210501
DTEND;VALUE=DATE:20210503
DTSTAMP:20260424T153421
CREATED:20210302T213411Z
LAST-MODIFIED:20210309T210631Z
UID:16477-1619827200-1619999999@hospiceorillia.ca
SUMMARY:Hike for Hospice 2021
DESCRIPTION:Hike for Hospice Documents:\n\nHow to register as an individual\nHow to register as a team\nPledge Form\nSponsorship Form (fillable)\nSponsorship Form\n“I’m Hiking For” sign
URL:https://hospiceorillia.ca/support/hike-for-hospice-2021/
LOCATION:Your Choice
END:VEVENT
BEGIN:VEVENT
DTSTART;TZID=UTC:20201210T183000
DTEND;TZID=UTC:20201210T200000
DTSTAMP:20260424T153421
CREATED:20201028T183052Z
LAST-MODIFIED:20201028T183052Z
UID:16276-1607625000-1607630400@hospiceorillia.ca
SUMMARY:Candles of Remembrance
DESCRIPTION:
URL:https://hospiceorillia.ca/support/candles-of-remembrance-2/
LOCATION:Virtual
END:VEVENT
BEGIN:VEVENT
DTSTART;VALUE=DATE:20201001
DTEND;VALUE=DATE:20201101
DTSTAMP:20260424T153421
CREATED:20200814T165146Z
LAST-MODIFIED:20200902T204341Z
UID:16237-1601510400-1604188799@hospiceorillia.ca
SUMMARY:Hike for Hospice 2020
DESCRIPTION:
URL:https://hospiceorillia.ca/support/hike-for-hospice-2020/
END:VEVENT
BEGIN:VEVENT
DTSTART;TZID=UTC:20200929T130000
DTEND;TZID=UTC:20200929T143000
DTSTAMP:20260424T153421
CREATED:20200828T173502Z
LAST-MODIFIED:20200828T183125Z
UID:16251-1601384400-1601389800@hospiceorillia.ca
SUMMARY:Compassionate Connections
DESCRIPTION:
URL:https://hospiceorillia.ca/support/compassionate-connections-3/
LOCATION:GoTo Meetings (Online)
END:VEVENT
BEGIN:VEVENT
DTSTART;TZID=UTC:20200625T130000
DTEND;TZID=UTC:20200625T143000
DTSTAMP:20260424T153421
CREATED:20200603T220958Z
LAST-MODIFIED:20200603T220958Z
UID:16161-1593090000-1593095400@hospiceorillia.ca
SUMMARY:Compassionate Connections
DESCRIPTION:
URL:https://hospiceorillia.ca/support/compassionate-connections-2/
LOCATION:GoTo Meetings (Online)
END:VEVENT
BEGIN:VEVENT
DTSTART;TZID=UTC:20200618T183000
DTEND;TZID=UTC:20200618T203000
DTSTAMP:20260424T153421
CREATED:20200522T224548Z
LAST-MODIFIED:20200522T224548Z
UID:16139-1592505000-1592512200@hospiceorillia.ca
SUMMARY:Garden of Remembrance
DESCRIPTION:
URL:https://hospiceorillia.ca/support/garden-of-remembrance/
LOCATION:Facebook\, Canada
END:VEVENT
BEGIN:VEVENT
DTSTART;TZID=UTC:20200514T131000
DTEND;TZID=UTC:20200514T144000
DTSTAMP:20260424T153421
CREATED:20200505T031605Z
LAST-MODIFIED:20200505T031605Z
UID:16116-1589461800-1589467200@hospiceorillia.ca
SUMMARY:Compassionate Connections
DESCRIPTION:
URL:https://hospiceorillia.ca/support/compassionate-connections/
LOCATION:GoTo Meetings (Online)
END:VEVENT
BEGIN:VEVENT
DTSTART;VALUE=DATE:20200505
DTEND;VALUE=DATE:20200506
DTSTAMP:20260424T153421
CREATED:20200505T032826Z
LAST-MODIFIED:20200505T032932Z
UID:16120-1588636800-1588723199@hospiceorillia.ca
SUMMARY:Giving Tuesday
DESCRIPTION:A global day of giving and unity that will take place on May 5\, 2020 as an emergency response to COVID-19. We invite all Canadians to join us in demonstrating the power of generosity.\nJoin us in giving back\, whether it be helping your neighbour with groceries\, donating time to make masks for essential workers or donating to organizations like Hospice Orillia\, we invite you to give however you can on Tuesday May 5th!
URL:https://hospiceorillia.ca/support/giving-tuesday/
END:VEVENT
BEGIN:VEVENT
DTSTART;TZID=UTC:20191202T180000
DTEND;TZID=UTC:20191202T200000
DTSTAMP:20260424T153421
CREATED:20191106T222516Z
LAST-MODIFIED:20191106T223158Z
UID:15960-1575309600-1575316800@hospiceorillia.ca
SUMMARY:Candles of Remembrance
DESCRIPTION:
URL:https://hospiceorillia.ca/support/candles-of-remembrance/
LOCATION:Leacock Museum National Historic Site\, 50 Museum Dr\, Orillia\, Ontario\, L3V 7T9\, Canada
END:VEVENT
BEGIN:VEVENT
DTSTART;TZID=UTC:20191121T163000
DTEND;TZID=UTC:20191121T220000
DTSTAMP:20260424T153421
CREATED:20191108T195915Z
LAST-MODIFIED:20191108T195915Z
UID:15971-1574353800-1574373600@hospiceorillia.ca
SUMMARY:Plate for Hospice
DESCRIPTION:A great way to support Hospice Orillia and try out a new restaurant!  Some great local establishments will be offering up some of their finest meals in support of Hospice Orillia.\nThis is a perfect night out for the family\, the office or even just a night on the town with your closest friends!
URL:https://hospiceorillia.ca/support/plate-for-hospice/
END:VEVENT
BEGIN:VEVENT
DTSTART;TZID=UTC:20191110T150000
DTEND;TZID=UTC:20191110T160000
DTSTAMP:20260424T153421
CREATED:20191106T222242Z
LAST-MODIFIED:20191106T222248Z
UID:15956-1573398000-1573401600@hospiceorillia.ca
SUMMARY:Ecumenical Choral Service
DESCRIPTION:
URL:https://hospiceorillia.ca/support/ecumenical-choral-service/
LOCATION:St. Paul’s Centre\, 62 Peter St N\, Orillia\, Ontario\, L3V 4Z1\, Canada
END:VEVENT
BEGIN:VEVENT
DTSTART;TZID=UTC:20191002T190000
DTEND;TZID=UTC:20191002T210000
DTSTAMP:20260424T153421
CREATED:20190801T003911Z
LAST-MODIFIED:20190801T003911Z
UID:15803-1570042800-1570050000@hospiceorillia.ca
SUMMARY:PILO NSM - Open House
DESCRIPTION:  \nPlease RSVP to \namanda@hospiceorillia.ca \nby September 18th.
URL:https://hospiceorillia.ca/support/pilo-nsm-open-house/
LOCATION:Hawk Ridge Golf and Country Club\, 1151 Hurlwood Ln\, Severn\, Ontario\, L3V 0Y6\, Canada
END:VEVENT
BEGIN:VEVENT
DTSTART;TZID=UTC:20190803T173000
DTEND;TZID=UTC:20190803T210000
DTSTAMP:20260424T153421
CREATED:20190603T224643Z
LAST-MODIFIED:20190801T004103Z
UID:15232-1564853400-1564866000@hospiceorillia.ca
SUMMARY:Charity Bingo - August 3rd
DESCRIPTION:
URL:https://hospiceorillia.ca/support/charity-bingo-august-3/
LOCATION:Royal Canadian Legion\, 215 Mississaga St East\, Orillia\, Ontario\, L3V 1W2\, Canada
END:VEVENT
BEGIN:VEVENT
DTSTART;TZID=UTC:20190626T170000
DTEND;TZID=UTC:20190626T180000
DTSTAMP:20260424T153421
CREATED:20190606T011543Z
LAST-MODIFIED:20190606T011715Z
UID:15426-1561568400-1561572000@hospiceorillia.ca
SUMMARY:Annual Public Meeting
DESCRIPTION:Meeting Time is to be determined. Stay tuned for more information. \n\n\n\nDetails\n\nDate: June 26\, 2019\n\n\n\nVenue\n\nOrillia Common Roof\n\n169 Front Street\, South\nOrillia\, ON L3V4S8 Canada\n \n\nPhone: 705-325-0505
URL:https://hospiceorillia.ca/support/annual-public-meeting/
END:VEVENT
END:VCALENDAR